BEGIN:VCALENDAR
VERSION:2.0
PRODID:-//O.M.A.  : Centre International de Médiation - ECPv6.3.3.1//NONSGML v1.0//EN
CALSCALE:GREGORIAN
METHOD:PUBLISH
X-ORIGINAL-URL:https://oma-mediation.com/en/
X-WR-CALDESC:Events for O.M.A.  : Centre International de Médiation
REFRESH-INTERVAL;VALUE=DURATION:PT1H
X-Robots-Tag:noindex
X-PUBLISHED-TTL:PT1H
BEGIN:VTIMEZONE
TZID:Europe/Brussels
BEGIN:DAYLIGHT
TZOFFSETFROM:+0100
TZOFFSETTO:+0200
TZNAME:CEST
DTSTART:20170326T010000
END:DAYLIGHT
BEGIN:STANDARD
TZOFFSETFROM:+0200
TZOFFSETTO:+0100
TZNAME:CET
DTSTART:20171029T010000
END:STANDARD
END:VTIMEZONE
BEGIN:VEVENT
DTSTART;TZID=Europe/Brussels:20171120T010000
DTEND;TZID=Europe/Brussels:20171121T005959
DTSTAMP:20260420T073558
CREATED:20170906T121351Z
LAST-MODIFIED:20170918T073552Z
UID:10001136-1511139600-1511225999@oma-mediation.com
SUMMARY:« SUPERVISION WORKSHOPS – Clinical Practices - Couple and Family - Transgenerational Stories »\,
DESCRIPTION:in partnership with the A.B.I.P.F.S\, Belgian Association for Family and Systemic Intervention and Psychotherapy \non November\, 20th\, 2017\, with Anna Mascellani\, psychologist and family therapist\, assistant director and coordinator of the clinical activity of the Accademia di Psicoterapia della Famiglia\, writer with Maurizio Andolfi of the book « Teenage stories »\, co-writer of other books on family therapy at La Grande Porte\, Brussels \nFor more information and registration : info@oma-mediation.com
URL:https://oma-mediation.com/en/oma-event/supervision-workshops-clinical-practices-couple-and-family-transgenerational-stories/
LOCATION:O.M.A.  ASBL\, Rue Notre Seigneur 9\, Brussels\, Ile de Patmos\, Grèce
CATEGORIES:Continuous training
ATTACH;FMTTYPE=image/jpeg:https://oma-mediation.com/wp-content/uploads/2017/10/images.jpeg
ORGANIZER;CN="O.M.A. Mediation ASBL":MAILTO:admin@oma-mediation.com
GEO:37.3091639;26.5475786
X-APPLE-STRUCTURED-LOCATION;VALUE=URI;X-ADDRESS=O.M.A.  ASBL Rue Notre Seigneur 9 Brussels Ile de Patmos Grèce;X-APPLE-RADIUS=500;X-TITLE=Rue Notre Seigneur 9:geo:26.5475786,37.3091639
END:VEVENT
BEGIN:VEVENT
DTSTART;TZID=Europe/Brussels:20171019T020000
DTEND;TZID=Europe/Brussels:20171020T015959
DTSTAMP:20260420T073558
CREATED:20170906T120118Z
LAST-MODIFIED:20170906T165040Z
UID:10001131-1508378400-1508464799@oma-mediation.com
SUMMARY:Senior mediation - wich place for the elderly person\, her family\, the institution where she lives\, and all the intervenors around her ? on October 19th\, 2017
DESCRIPTION:With Mrs Noëlle DE VISSCHER\, Mrs Stéphanie DEGRAVE\, Mrs Annabel FAVA et Mr Jean DE LATHOUWER\nFee 5€\, by appointment – by mail : info@oma-mediation.com
URL:https://oma-mediation.com/en/oma-event/senior-mediation-wich-place-for-the-elderly-person-her-family-the-institution-where-she-lives-and-all-the-intervenors-around-her-on-october-19th-2017/
LOCATION:O.M.A.  ASBL\, Rue Notre Seigneur 9\, Brussels\, Ile de Patmos\, Grèce
CATEGORIES:Continuous training
ATTACH;FMTTYPE=image/jpeg:https://oma-mediation.com/wp-content/uploads/2017/08/meeting-business-936059_1280.jpg
ORGANIZER;CN="O.M.A. Mediation ASBL":MAILTO:admin@oma-mediation.com
GEO:37.3091639;26.5475786
X-APPLE-STRUCTURED-LOCATION;VALUE=URI;X-ADDRESS=O.M.A.  ASBL Rue Notre Seigneur 9 Brussels Ile de Patmos Grèce;X-APPLE-RADIUS=500;X-TITLE=Rue Notre Seigneur 9:geo:26.5475786,37.3091639
END:VEVENT
BEGIN:VEVENT
DTSTART;TZID=Europe/Brussels:20171018T020000
DTEND;TZID=Europe/Brussels:20171019T015959
DTSTAMP:20260420T073558
CREATED:20170906T120037Z
LAST-MODIFIED:20170906T120037Z
UID:10001130-1508292000-1508378399@oma-mediation.com
SUMMARY:New leads for companies confronted with international trade disputes on October 18th\, 2017
DESCRIPTION:With Mr Thierry LAGNEAUX\nFee 5€\, by appointment – by mail : info@oma-mediation.com
URL:https://oma-mediation.com/en/oma-event/new-leads-for-companies-confronted-with-international-trade-disputes-on-october-18th-2017/
LOCATION:O.M.A.  ASBL\, Rue Notre Seigneur 9\, Brussels\, Ile de Patmos\, Grèce
CATEGORIES:Continuous training
ATTACH;FMTTYPE=image/jpeg:https://oma-mediation.com/wp-content/uploads/2017/08/meeting-business-936059_1280.jpg
ORGANIZER;CN="O.M.A. Mediation ASBL":MAILTO:admin@oma-mediation.com
GEO:37.3091639;26.5475786
X-APPLE-STRUCTURED-LOCATION;VALUE=URI;X-ADDRESS=O.M.A.  ASBL Rue Notre Seigneur 9 Brussels Ile de Patmos Grèce;X-APPLE-RADIUS=500;X-TITLE=Rue Notre Seigneur 9:geo:26.5475786,37.3091639
END:VEVENT
BEGIN:VEVENT
DTSTART;TZID=Europe/Brussels:20171018T020000
DTEND;TZID=Europe/Brussels:20171019T015959
DTSTAMP:20260420T073558
CREATED:20170906T115932Z
LAST-MODIFIED:20170906T115932Z
UID:10001129-1508292000-1508378399@oma-mediation.com
SUMMARY:Family conflicts : solutions without borders on October 18th\, 2017
DESCRIPTION:With Mrs Evelyne MEISSIREL DU SOUZY and Mrs Stéphanie DEGRAVE\nFee 5€\, by appointment – by mail : info@oma-mediation.com
URL:https://oma-mediation.com/en/oma-event/family-conflicts-solutions-without-borders-on-october-18th-2017/
LOCATION:O.M.A.  ASBL\, Rue Notre Seigneur 9\, Brussels\, Ile de Patmos\, Grèce
CATEGORIES:Continuous training
ATTACH;FMTTYPE=image/jpeg:https://oma-mediation.com/wp-content/uploads/2017/08/meeting-business-936059_1280.jpg
ORGANIZER;CN="O.M.A. Mediation ASBL":MAILTO:admin@oma-mediation.com
GEO:37.3091639;26.5475786
X-APPLE-STRUCTURED-LOCATION;VALUE=URI;X-ADDRESS=O.M.A.  ASBL Rue Notre Seigneur 9 Brussels Ile de Patmos Grèce;X-APPLE-RADIUS=500;X-TITLE=Rue Notre Seigneur 9:geo:26.5475786,37.3091639
END:VEVENT
END:VCALENDAR