BEGIN:VCALENDAR
VERSION:2.0
PRODID:-//O.M.A. Centre International de Médiation - ECPv6.3.3.1//NONSGML v1.0//EN
CALSCALE:GREGORIAN
METHOD:PUBLISH
X-ORIGINAL-URL:https://oma-mediation.com
X-WR-CALDESC:Events for O.M.A. Centre International de Médiation
REFRESH-INTERVAL;VALUE=DURATION:PT1H
X-Robots-Tag:noindex
X-PUBLISHED-TTL:PT1H
BEGIN:VTIMEZONE
TZID:Europe/Brussels
BEGIN:DAYLIGHT
TZOFFSETFROM:+0100
TZOFFSETTO:+0200
TZNAME:CEST
DTSTART:20170326T010000
END:DAYLIGHT
BEGIN:STANDARD
TZOFFSETFROM:+0200
TZOFFSETTO:+0100
TZNAME:CET
DTSTART:20171029T010000
END:STANDARD
BEGIN:DAYLIGHT
TZOFFSETFROM:+0100
TZOFFSETTO:+0200
TZNAME:CEST
DTSTART:20180325T010000
END:DAYLIGHT
BEGIN:STANDARD
TZOFFSETFROM:+0200
TZOFFSETTO:+0100
TZNAME:CET
DTSTART:20181028T010000
END:STANDARD
END:VTIMEZONE
BEGIN:VEVENT
DTSTART;TZID=Europe/Brussels:20181016T200000
DTEND;TZID=Europe/Brussels:20181016T220000
DTSTAMP:20260423T230239
CREATED:20180702T075514Z
LAST-MODIFIED:20180926T122958Z
UID:10001145-1539720000-1539727200@oma-mediation.com
SUMMARY:La médiation\, outil de pacification et de résilience pendant et après les conflits violents et armés en Afrique. Retours de vécus et émergence de la Médialabre
DESCRIPTION:View Fullscreen\n  \nDans le cadre de la semaine de la médiation\, organisée par la Commission fédérale de médiation \nhttps://www.cfm-fbc.be/fr
URL:https://oma-mediation.com/oma-event/la-mediation-outil-de-pacification-et-de-resilience-pendant-et-apres-les-conflits-violents-et-armes-en-afrique-retours-de-vecus-et-emergence-de-la-medialabre/
LOCATION:Plorizontas- Ile de Patmos\, Plorizontas\, Patmos\, Ile de Patmos\, Grèce
CATEGORIES:Formations continues
ORGANIZER;CN="O.M.A. Asbl":MAILTO:admin@oma-mediation.com
GEO:37.3091639;26.5475786
X-APPLE-STRUCTURED-LOCATION;VALUE=URI;X-ADDRESS=Plorizontas- Ile de Patmos Plorizontas Patmos Ile de Patmos Grèce;X-APPLE-RADIUS=500;X-TITLE=Plorizontas:geo:26.5475786,37.3091639
END:VEVENT
BEGIN:VEVENT
DTSTART;TZID=Europe/Brussels:20181015T200000
DTEND;TZID=Europe/Brussels:20181015T220000
DTSTAMP:20260423T230239
CREATED:20180702T080653Z
LAST-MODIFIED:20180702T084721Z
UID:10001146-1539633600-1539640800@oma-mediation.com
SUMMARY:Harcèlement en entreprise\, harcèlement à l’école\, dans un contexte multiculturel et international : comment les identifier ? Comment dire stop ? Des outils pour gérer ces phénomènes
DESCRIPTION:View Fullscreen\n  \nDans le cadre de la semaine de la médiation\, organisée par la Commission fédérale de médiation \nhttps://www.cfm-fbc.be/fr
URL:https://oma-mediation.com/oma-event/harcelement-en-entreprise-harcelement-a-lecole-dans-un-contexte-multiculturel-et-international-comment-les-identifier-comment-dire-stop-des-outils-pour-gerer-ces-phenomenes/
LOCATION:Plorizontas- Ile de Patmos\, Plorizontas\, Patmos\, Ile de Patmos\, Grèce
CATEGORIES:Formations continues
ORGANIZER;CN="O.M.A. Asbl":MAILTO:admin@oma-mediation.com
GEO:37.3091639;26.5475786
X-APPLE-STRUCTURED-LOCATION;VALUE=URI;X-ADDRESS=Plorizontas- Ile de Patmos Plorizontas Patmos Ile de Patmos Grèce;X-APPLE-RADIUS=500;X-TITLE=Plorizontas:geo:26.5475786,37.3091639
END:VEVENT
BEGIN:VEVENT
DTSTART;TZID=Europe/Brussels:20181010T110000
DTEND;TZID=Europe/Brussels:20181025T203000
DTSTAMP:20260423T230239
CREATED:20180713T124952Z
LAST-MODIFIED:20180713T124952Z
UID:10001148-1539169200-1540499400@oma-mediation.com
SUMMARY:Spécialisation en médiation civile et commerciale - 30h
DESCRIPTION:View Fullscreen\nView Fullscreen
URL:https://oma-mediation.com/oma-event/specialisation-en-mediation-civile-et-commerciale-30h/
LOCATION:Plorizontas- Ile de Patmos\, Plorizontas\, Patmos\, Ile de Patmos\, Grèce
CATEGORIES:Formations continues
ORGANIZER;CN="O.M.A. Asbl":MAILTO:admin@oma-mediation.com
GEO:37.3091639;26.5475786
X-APPLE-STRUCTURED-LOCATION;VALUE=URI;X-ADDRESS=Plorizontas- Ile de Patmos Plorizontas Patmos Ile de Patmos Grèce;X-APPLE-RADIUS=500;X-TITLE=Plorizontas:geo:26.5475786,37.3091639
END:VEVENT
BEGIN:VEVENT
DTSTART;TZID=Europe/Brussels:20180604T113000
DTEND;TZID=Europe/Brussels:20180605T193000
DTSTAMP:20260423T230239
CREATED:20180301T135933Z
LAST-MODIFIED:20180515T072217Z
UID:10001142-1528111800-1528227000@oma-mediation.com
SUMMARY:Supervision avec Anna MASCELLANI à Bruxelles les 4 et 5 juin 2018 - COMPLET
DESCRIPTION:La journée de supervision animée par Anna MASCELLANI\, psychologue et thérapeute familial\, directeur adjoint et coordinateur de l’activité clinique de l’Academia di Psicoterapia della Famiglia\, auteur avec Maurizio Andolfi du livre Histoires d’adolescence\, co-rédacteur d’autres ouvrages sur la thérapie familiale\, en novembre 2017 à La Grande Porte fut un véritable succès. \nAnna nous fait le plaisir de revenir à Bruxelles pour animer une supervision de deux jours les 4 et 5 juin 2018 à La Grande Porte sur le thème de l’enfant comme ressource dans les séparations hostiles. \nN’hésitez pas à vous inscrire rapidement en nous retournant le bulletin d’inscription dûment complété et en procédant au versement des frais d’inscription\, soit 265 € pour tout paiement avant le 15 mars 2018. \nNous espérons vous voir nombreux à cette occasion. \nPour plus d’information : info@oma-mediation.com \nView Fullscreen
URL:https://oma-mediation.com/oma-event/1700/
LOCATION:Plorizontas- Ile de Patmos\, Plorizontas\, Patmos\, Ile de Patmos\, Grèce
CATEGORIES:Formations continues
ORGANIZER;CN="O.M.A. Asbl":MAILTO:admin@oma-mediation.com
GEO:37.3091639;26.5475786
X-APPLE-STRUCTURED-LOCATION;VALUE=URI;X-ADDRESS=Plorizontas- Ile de Patmos Plorizontas Patmos Ile de Patmos Grèce;X-APPLE-RADIUS=500;X-TITLE=Plorizontas:geo:26.5475786,37.3091639
END:VEVENT
BEGIN:VEVENT
DTSTART;VALUE=DATE:20171120
DTEND;VALUE=DATE:20171122
DTSTAMP:20260423T230239
CREATED:20170811T105553Z
LAST-MODIFIED:20171025T124920Z
UID:10001127-1511139600-1511225999@oma-mediation.com
SUMMARY:ATELIERS DE SUPERVISIONS – Pratiques cliniques – "L'enfant comme ressource dans les séparations hostiles "
DESCRIPTION:en partenariat avec l’A.B.I.P.F.S\, Association Belge pour l’Intervention et la Psychothérapie Familiale Systémique \nle 20 novembre 2017\, avec Anna Mascellani\, psychologue et thérapeute familial\, directeur adjoint et coordinateur de l’activité clinique de l’Accademia di Psicoterapia della Famiglia\, auteur avec Maurizio Andolfi du livre « Histoires d’adolescence »\, co-rédacteur d’autres ouvrages sur la thérapie familiale. \nLieu : à la Grande Porte\, rue Notre Seigneur\, 9 à 1000 Bruxelles \nSupervision en langue française \nInscription et renseignements : info@oma-mediation.com \nEn savoir plus Renseignements Anna Mascellani
URL:https://oma-mediation.com/oma-event/ateliers-de-supervisions-pratiques-cliniques-le-couple-et-la-famille-histoires-transgenerationnelles/
LOCATION:Plorizontas- Ile de Patmos\, Plorizontas\, Patmos\, Ile de Patmos\, Grèce
CATEGORIES:Formations continues
ATTACH;FMTTYPE=image/jpeg:https://oma-mediation.com/wp-content/uploads/2017/10/images.jpeg
ORGANIZER;CN="O.M.A. Asbl":MAILTO:admin@oma-mediation.com
GEO:37.3091639;26.5475786
X-APPLE-STRUCTURED-LOCATION;VALUE=URI;X-ADDRESS=Plorizontas- Ile de Patmos Plorizontas Patmos Ile de Patmos Grèce;X-APPLE-RADIUS=500;X-TITLE=Plorizontas:geo:26.5475786,37.3091639
END:VEVENT
BEGIN:VEVENT
DTSTART;VALUE=DATE:20171113
DTEND;VALUE=DATE:20180618
DTSTAMP:20260423T230239
CREATED:20171003T142838Z
LAST-MODIFIED:20180910T102121Z
UID:10001139-1510534800-1529200799@oma-mediation.com
SUMMARY:Certificat en médiation organisationnelle dans l’entreprise
DESCRIPTION:CERTIFICAT EN MÉDIATION ORGANISATIONNELLE DANS L’ENTREPRISE-MEDIATION SOCIALE en 90 heures organisé par l’I.M.E.F.\, Institut pour la médiation dans l’espace francophone et HELMO\, à Bruxelles à partir du 13 novembre 2017. Cette formation est agréée par la Commission Fédérale de médiation. \nIMEF-OMA-HELMO- programme formation médiation sociale-17112017-1 \nView Fullscreen \nView Fullscreen
URL:https://oma-mediation.com/oma-event/certificat-en-mediation-organisationnelle-dans-lentreprise/
LOCATION:Plorizontas- Ile de Patmos\, Plorizontas\, Patmos\, Ile de Patmos\, Grèce
CATEGORIES:Formations continues
ATTACH;FMTTYPE=image/jpeg:https://oma-mediation.com/wp-content/uploads/2017/08/meeting-business-936059_1280.jpg
ORGANIZER;CN="O.M.A. Asbl":MAILTO:admin@oma-mediation.com
GEO:37.3091639;26.5475786
X-APPLE-STRUCTURED-LOCATION;VALUE=URI;X-ADDRESS=Plorizontas- Ile de Patmos Plorizontas Patmos Ile de Patmos Grèce;X-APPLE-RADIUS=500;X-TITLE=Plorizontas:geo:26.5475786,37.3091639
END:VEVENT
BEGIN:VEVENT
DTSTART;VALUE=DATE:20171019
DTEND;VALUE=DATE:20171021
DTSTAMP:20260423T230239
CREATED:20170805T114341Z
LAST-MODIFIED:20171011T102224Z
UID:10001125-1508378400-1508464799@oma-mediation.com
SUMMARY:La senior médiation – quelle place réserver à la personne âgée\, sa famille\, l’institution où elle demeure\, les multiples intervenants qui l’entourent ?
DESCRIPTION:Avec Noëlle DE VISSCHER\, Stéphanie DEGRAVE\, Annabel FAVA et Jean DE LATHOUWER \nPaf 100 €\, réservation requise – par mail : info@oma-mediation.com
URL:https://oma-mediation.com/oma-event/la-senior-mediation-quelle-place-reserver-a-la-personne-agee-sa-famille-linstitution-ou-elle-demeure-les-multiples-intervenants-qui-lentourent/
LOCATION:Plorizontas- Ile de Patmos\, Plorizontas\, Patmos\, Ile de Patmos\, Grèce
CATEGORIES:Formations continues
ATTACH;FMTTYPE=image/jpeg:https://oma-mediation.com/wp-content/uploads/2017/08/meeting-business-936059_1280.jpg
ORGANIZER;CN="O.M.A. Asbl":MAILTO:admin@oma-mediation.com
GEO:37.3091639;26.5475786
X-APPLE-STRUCTURED-LOCATION;VALUE=URI;X-ADDRESS=Plorizontas- Ile de Patmos Plorizontas Patmos Ile de Patmos Grèce;X-APPLE-RADIUS=500;X-TITLE=Plorizontas:geo:26.5475786,37.3091639
END:VEVENT
BEGIN:VEVENT
DTSTART;VALUE=DATE:20171018
DTEND;VALUE=DATE:20171020
DTSTAMP:20260423T230239
CREATED:20170805T114252Z
LAST-MODIFIED:20171011T102355Z
UID:10001124-1508292000-1508378399@oma-mediation.com
SUMMARY:Pistes nouvelles pour les entreprises confrontées aux conflits commerciaux à l’international
DESCRIPTION:Avec Thierry LAGNEAUX \nPaf 5 €\, réservation requise – par mail : info@oma-mediation.com
URL:https://oma-mediation.com/oma-event/pistes-nouvelles-pour-les-entreprises-confrontees-aux-conflits-commerciaux-a-linternational/
LOCATION:Plorizontas- Ile de Patmos\, Plorizontas\, Patmos\, Ile de Patmos\, Grèce
CATEGORIES:Formations continues
ATTACH;FMTTYPE=image/jpeg:https://oma-mediation.com/wp-content/uploads/2017/08/meeting-business-936059_1280.jpg
ORGANIZER;CN="O.M.A. Asbl":MAILTO:admin@oma-mediation.com
GEO:37.3091639;26.5475786
X-APPLE-STRUCTURED-LOCATION;VALUE=URI;X-ADDRESS=Plorizontas- Ile de Patmos Plorizontas Patmos Ile de Patmos Grèce;X-APPLE-RADIUS=500;X-TITLE=Plorizontas:geo:26.5475786,37.3091639
END:VEVENT
BEGIN:VEVENT
DTSTART;VALUE=DATE:20171018
DTEND;VALUE=DATE:20171020
DTSTAMP:20260423T230239
CREATED:20170805T114139Z
LAST-MODIFIED:20171011T102506Z
UID:10001123-1508292000-1508378399@oma-mediation.com
SUMMARY:Les conflits familiaux : des solutions sans frontières
DESCRIPTION:Avec Evelyne MEISSIREL DU SOUZY  \nPaf 5 €\, réservation requise – par mail : info@oma-mediation.com
URL:https://oma-mediation.com/oma-event/les-conflits-familiaux-des-solutions-sans-frontieres/
LOCATION:Plorizontas- Ile de Patmos\, Plorizontas\, Patmos\, Ile de Patmos\, Grèce
CATEGORIES:Formations continues
ATTACH;FMTTYPE=image/jpeg:https://oma-mediation.com/wp-content/uploads/2017/08/meeting-business-936059_1280.jpg
ORGANIZER;CN="O.M.A. Asbl":MAILTO:admin@oma-mediation.com
GEO:37.3091639;26.5475786
X-APPLE-STRUCTURED-LOCATION;VALUE=URI;X-ADDRESS=Plorizontas- Ile de Patmos Plorizontas Patmos Ile de Patmos Grèce;X-APPLE-RADIUS=500;X-TITLE=Plorizontas:geo:26.5475786,37.3091639
END:VEVENT
BEGIN:VEVENT
DTSTART;VALUE=DATE:20170915
DTEND;VALUE=DATE:20170918
DTSTAMP:20260423T230239
CREATED:20170621T142300Z
LAST-MODIFIED:20170928T154523Z
UID:10001119-1505433600-1505692799@oma-mediation.com
SUMMARY:LES MEDIATIONS INTERNATIONALES au service des grandes organisations
DESCRIPTION:LES VENDANGES DE LA MEDIATION 2017 – les 15\, 16 et 17 septembre 2017\, avec Béatrice Blohorn-Brenneur et Stephen Bensimon\, à Suilly-la-Tour \nPour plus d’information et inscription : info@oma-mediation.com \nView Fullscreen
URL:https://oma-mediation.com/oma-event/%e2%80%afdevelopper-les-mediations-dans-les-entreprises-et-organisations-internationales%e2%80%af-pourquoi-et-comment%e2%80%af%e2%80%af/
LOCATION:Plorizontas- Ile de Patmos\, Plorizontas\, Patmos\, Ile de Patmos\, Grèce
CATEGORIES:Formations continues
ATTACH;FMTTYPE=image/jpeg:https://oma-mediation.com/wp-content/uploads/2017/08/meeting-business-936059_1280.jpg
GEO:37.3091639;26.5475786
X-APPLE-STRUCTURED-LOCATION;VALUE=URI;X-ADDRESS=Plorizontas- Ile de Patmos Plorizontas Patmos Ile de Patmos Grèce;X-APPLE-RADIUS=500;X-TITLE=Plorizontas:geo:26.5475786,37.3091639
END:VEVENT
END:VCALENDAR