BEGIN:VCALENDAR
VERSION:2.0
PRODID:-//O.M.A. Centre International de Médiation - ECPv6.3.3.1//NONSGML v1.0//EN
CALSCALE:GREGORIAN
METHOD:PUBLISH
X-WR-CALNAME:O.M.A. Centre International de Médiation
X-ORIGINAL-URL:https://oma-mediation.com
X-WR-CALDESC:Events for O.M.A. Centre International de Médiation
REFRESH-INTERVAL;VALUE=DURATION:PT1H
X-Robots-Tag:noindex
X-PUBLISHED-TTL:PT1H
BEGIN:VTIMEZONE
TZID:Europe/Brussels
BEGIN:DAYLIGHT
TZOFFSETFROM:+0100
TZOFFSETTO:+0200
TZNAME:CEST
DTSTART:20240331T010000
END:DAYLIGHT
BEGIN:STANDARD
TZOFFSETFROM:+0200
TZOFFSETTO:+0100
TZNAME:CET
DTSTART:20241027T010000
END:STANDARD
BEGIN:DAYLIGHT
TZOFFSETFROM:+0100
TZOFFSETTO:+0200
TZNAME:CEST
DTSTART:20250330T010000
END:DAYLIGHT
BEGIN:STANDARD
TZOFFSETFROM:+0200
TZOFFSETTO:+0100
TZNAME:CET
DTSTART:20251026T010000
END:STANDARD
END:VTIMEZONE
BEGIN:VEVENT
DTSTART;TZID=Europe/Brussels:20250417T093000
DTEND;TZID=Europe/Brussels:20250417T180000
DTSTAMP:20260425T171946
CREATED:20240618T125116Z
LAST-MODIFIED:20250329T102737Z
UID:10001203-1744882200-1744912800@oma-mediation.com
SUMMARY:Communication non violente - 2025
DESCRIPTION:Intervenant\n\nKILESTE Patrick: Praticien en Communication Non Violente selon Marshall B Rosenberg\, formateur et médiateur agréé CFM\, avocat\n\nEn présence d’Alexandre VAES\, médiateur et membre d’OMA et psychologue. \nFrais d’inscriptions\n\n140€\n\nMerci de procéder au paiement du montant total des frais de votre formation sur le compte d’OMA – BE20 3631 3535 5456. La réception de votre paiement validera  votre inscription. \nConditions relatives à l’inscription et au paiement (CRIP) \nAgenda\n\n17 avril\n\nRespect de la législation européenne pour protéger les participant.e.s aux formations d’OMA asbl en ce qui concerne le traitement et la libre circulation de leurs données personnelles. \nView Fullscreen
URL:https://oma-mediation.com/oma-event/communication-non-violente-2025/
LOCATION:La Grande Porte\, Rue Notre Seigneur 9\, Bruxelles\, 1000\, Belgique
CATEGORIES:Formations,Formations continues
ATTACH;FMTTYPE=image/jpeg:https://oma-mediation.com/wp-content/uploads/2023/09/Plaquette-Formation-Continue-CNV-Patrick-Kileste-5022024.jpg
ORGANIZER;CN="O.M.A. Asbl (S T)":MAILTO:stephane@oma-mediation.com
GEO:50.8405663;4.3496644
X-APPLE-STRUCTURED-LOCATION;VALUE=URI;X-ADDRESS=La Grande Porte Rue Notre Seigneur 9 Bruxelles 1000 Belgique;X-APPLE-RADIUS=500;X-TITLE=Rue Notre Seigneur 9:geo:4.3496644,50.8405663
END:VEVENT
BEGIN:VEVENT
DTSTART;TZID=Europe/Brussels:20240613T123000
DTEND;TZID=Europe/Brussels:20240613T143000
DTSTAMP:20260425T171946
CREATED:20240207T101637Z
LAST-MODIFIED:20240403T115435Z
UID:10001198-1718281800-1718289000@oma-mediation.com
SUMMARY:Utilisation d’e-Deposit pour médiateur.trices (visioconférence)
DESCRIPTION:Les citoyens\, les entreprises et les avocats – mais aussi les médiateur.trices – peuvent soumettent des documents de procédure préliminaires (requêtes)\, des dossiers\, et des lettres d’accompagnement à un tribunal via le portail we e-Deposit\, vous pouvez déposer par voie électronique actes introductifs\, ainsi que ses annexes\, dans le bon dossier pour le tribunal concerné. A terme\, e-Deposit\, qui constitue un outil particulièrement utile et générateur de temps\, sera la seule voie d’introduction des requêtes en homologation et ses pièces. Cette formation a pour objectif de vous familiariser avec cette plateforme bientôt incontournable. Entrez dans le XXIème siècle ! \nDate : Le 13 juin 2024 de 12 h30 à 14 h30 (connexion demandée à 11 heures 45) \nLes intervenants \n\nAnaïs De wolf: Avocate et médiatrice en matière familiale et fondatrice de l’ASBL Trêve\nJoséphine d’ANSEMBOURG: Médiatrice en matière familiale\, formatrice et fondatrice de l’ASBL Trêve\n\nEn présence de Stéphane TELLIER\, Médiateur et membre associé d’OMA ASBL. \nFrais d’inscription : 45 €\nMerci de procéder au paiement du montant total des frais de votre formation sur le compte d’OMA ASBL n°BE20 3631 3535 5456.\nLa réception de votre paiement validera votre inscription. Conditions relatives à l’inscription et au paiement (CRIP) \nLieu\nPar visioconférence (inscription obligatoire au plus tard le 11 juin 2024) \nRenseignements\nStéphane Tellier – stephane@oma-mediation.com – 0498.38.20.10 \nFormation en cours d’agrément par la Commission fédérale de médiation pour 2 heures \nRespect de la législation européenne pour protéger les participant.e.s aux formations d’OMA asbl en ce qui concerne le traitement et la libre circulation de leurs données personnelles.
URL:https://oma-mediation.com/oma-event/utilisation-de-deposit-pour-mediateur-trices/
LOCATION:Séminaire en ligne via le logiciel ZOOM
CATEGORIES:Formations,Formations continues
ATTACH;FMTTYPE=image/jpeg:https://oma-mediation.com/wp-content/uploads/2024/02/Plaquette-Formation-Continue-e-DEPOSIT-Treve-13.06.jpg
ORGANIZER;CN="O.M.A. Asbl (S T)":MAILTO:stephane@oma-mediation.com
END:VEVENT
BEGIN:VEVENT
DTSTART;TZID=Europe/Brussels:20240404T093000
DTEND;TZID=Europe/Brussels:20240404T180000
DTSTAMP:20260425T171946
CREATED:20230904T121822Z
LAST-MODIFIED:20240403T115428Z
UID:10001191-1712223000-1712253600@oma-mediation.com
SUMMARY:Communication non violente - 2024
DESCRIPTION:Intervenant\n\nKILESTE Patrick: Praticien en Communication Non Violente selon Marshall B Rosenberg\, formateur et médiateur agréé CFM\, avocat\n\nEn présence de Stéphane TELLIER\, Médiateur et membre associé d’OMA ASBL. \nFrais d’inscriptions\n\n140€\n\nMerci de procéder au paiement du montant total des frais de votre formation sur le compte d’OMA – BE20 3631 3535 5456. La réception de votre paiement validera  votre inscription. \nConditions relatives à l’inscription et au paiement (CRIP) \nAgenda\n\n4 avril 2024\n\nRespect de la législation européenne pour protéger les participant.e.s aux formations d’OMA asbl en ce qui concerne le traitement et la libre circulation de leurs données personnelles.
URL:https://oma-mediation.com/oma-event/communication-non-violente-2024/
LOCATION:La Grande Porte\, Rue Notre Seigneur 9\, Bruxelles\, 1000\, Belgique
CATEGORIES:Formations,Formations continues
ATTACH;FMTTYPE=image/jpeg:https://oma-mediation.com/wp-content/uploads/2023/09/Plaquette-Formation-Continue-CNV-Patrick-Kileste-5022024.jpg
ORGANIZER;CN="O.M.A. Asbl (S T)":MAILTO:stephane@oma-mediation.com
GEO:50.8405663;4.3496644
X-APPLE-STRUCTURED-LOCATION;VALUE=URI;X-ADDRESS=La Grande Porte Rue Notre Seigneur 9 Bruxelles 1000 Belgique;X-APPLE-RADIUS=500;X-TITLE=Rue Notre Seigneur 9:geo:4.3496644,50.8405663
END:VEVENT
END:VCALENDAR